BEGIN:VCALENDAR
VERSION:2.0
PRODID:EVENTFROG//EVENT//ICAL
BEGIN:VEVENT
UID:20260421T133633Z-7447628269845752870@eventfrog.at
DTSTAMP:20260421T133633Z
DTSTART:20260522T184500Z
SUMMARY:THE RUMOURS + support: JOHNNY BRAVO EXPERIENCE
DESCRIPTION:Punk  Metal\n\nhttps://eventfrog.at/de/p/konzerte/punk/the-rumours-support-johnny-bravo-experience-7447628269845752870.html
LOCATION:Kulturzentrum Giesinger Bahnhof
GEO:48.110397;11.596163
URL:https://eventfrog.at/de/p/konzerte/punk/the-rumours-support-johnny-bravo-experience-7447628269845752870.html
END:VEVENT
END:VCALENDAR