BEGIN:VCALENDAR
VERSION:2.0
PRODID:EVENTFROG//EVENT//ICAL
BEGIN:VEVENT
UID:20260421T042857Z-7447599197950319741@eventfrog.at
DTSTAMP:20260421T042857Z
DTSTART:20260620T180000Z
DTEND:20260620T200000Z
SUMMARY:Noche Flamenca
DESCRIPTION:Über 100 Künstler feiern das 22-jährige Jubiläum des Centro Flamenco Berlin mit einer authentischen Flamenconacht.\n\nhttps://eventfrog.at/de/p/theater-buehne/tanz/noche-flamenca-7447599197950319741.html
LOCATION:Luftschloss Tempelhofer Feld
GEO:52.476672;13.386209
URL:https://eventfrog.at/de/p/theater-buehne/tanz/noche-flamenca-7447599197950319741.html
END:VEVENT
END:VCALENDAR