BEGIN:VCALENDAR
VERSION:2.0
PRODID:EVENTFROG//EVENT//ICAL
BEGIN:VEVENT
UID:20260424T090233Z-7447560733980672926@eventfrog.at
DTSTAMP:20260424T090233Z
DTSTART:20260905T080000Z
DTEND:20260906T150000Z
SUMMARY:Dyads Meditations-Wochenende für spirituelle Transformation
DESCRIPTION:Dyads sind kraftvolle Meditationsübungen zur spirituellen Transformation, geleitet von René Hatt in Seminaren und wöchentlichen Treffen.\n\nhttps://eventfrog.at/de/p/gesundheit-spiritualitaet/spiritualitaet/dyads-meditations-wochenende-fuer-spirituelle-transformation-7447560733980672926.html
LOCATION:Pilgrim Studio
GEO:47.497474;8.723703
URL:https://eventfrog.at/de/p/gesundheit-spiritualitaet/spiritualitaet/dyads-meditations-wochenende-fuer-spirituelle-transformation-7447560733980672926.html
END:VEVENT
END:VCALENDAR