BEGIN:VCALENDAR
VERSION:2.0
PRODID:EVENTFROG//EVENT//ICAL
BEGIN:VEVENT
UID:20260419T232624Z-7447398190918164643@eventfrog.at
DTSTAMP:20260419T232624Z
DTSTART:20260514T183000Z
SUMMARY:Hallenbeiz
DESCRIPTION:Hallenbeiz\n\nhttps://eventfrog.at/de/p/partys/hallenbeiz-7447398190918164643.html
LOCATION:Grabenhalle
GEO:47.427340;9.374160
URL:https://eventfrog.at/de/p/partys/hallenbeiz-7447398190918164643.html
END:VEVENT
END:VCALENDAR