BEGIN:VCALENDAR
VERSION:2.0
PRODID:EVENTFROG//EVENT//ICAL
BEGIN:VEVENT
UID:20260424T205229Z-7447332657145317977@eventfrog.at
DTSTAMP:20260424T205229Z
DTSTART:20260528T180000Z
DTEND:20260528T200000Z
SUMMARY:Herzmeditation
DESCRIPTION:Im Hotel Palace Nairs Scuol bringt die Herzmeditation nach Karunesh deinen Geist und Körper zur Ruhe und stärkt somit die Verbindung zu deinem Herzraum, zu deiner Seele.\n\nhttps://eventfrog.at/de/p/gesundheit-spiritualitaet/gesundheit-wohlbefinden/herzmeditation-7447332657145317977.html
LOCATION:Hotel Scuol Palace
GEO:46.789774;10.275709
URL:https://eventfrog.at/de/p/gesundheit-spiritualitaet/gesundheit-wohlbefinden/herzmeditation-7447332657145317977.html
END:VEVENT
END:VCALENDAR