BEGIN:VCALENDAR
VERSION:2.0
PRODID:EVENTFROG//EVENT//ICAL
BEGIN:VEVENT
UID:20260425T023323Z-7447185094979121631@eventfrog.at
DTSTAMP:20260425T023323Z
DTSTART:20260425T180000Z
DTEND:20260425T230000Z
SUMMARY:Memminger Gastro Musiknacht 2026
DESCRIPTION:18 Locations, eine Stadt, grenzenlose Vibes. \n\nTanz durch die Nacht, genieß Livemusik, coole DJ's, Drinks & beste Vibes. \n\nhttps://eventfrog.at/de/p/partys/sonstige-partys/memminger-gastro-musiknacht-2026-7447185094979121631.html
LOCATION:Zentrum Memmingen 
GEO:47.983800;10.180188
URL:https://eventfrog.at/de/p/partys/sonstige-partys/memminger-gastro-musiknacht-2026-7447185094979121631.html
END:VEVENT
END:VCALENDAR