BEGIN:VCALENDAR
VERSION:2.0
PRODID:EVENTFROG//EVENT//ICAL
BEGIN:VEVENT
UID:20260419T232624Z-7447021657028327968@eventfrog.at
DTSTAMP:20260419T232624Z
DTSTART:20260515T190000Z
DTEND:20260516T010000Z
SUMMARY:9PM X PAJEL
DESCRIPTION:PAJEL performs live for the first time in St. Gallen at Miami Club on 15 May. Doors open at 21:00. Event for 16+.\n\nhttps://eventfrog.at/de/p/partys/disco/9pm-x-pajel-7447021657028327968.html
LOCATION:Miami Club
GEO:47.426585;9.377054
URL:https://eventfrog.at/de/p/partys/disco/9pm-x-pajel-7447021657028327968.html
END:VEVENT
END:VCALENDAR