BEGIN:VCALENDAR
VERSION:2.0
PRODID:EVENTFROG//EVENT//ICAL
BEGIN:VEVENT
UID:20260422T145239Z-7446852026296761411@eventfrog.at
DTSTAMP:20260422T145239Z
DTSTART:20260927T170000Z
DTEND:20260927T190000Z
SUMMARY:Stephan Krawczyk: "Engel aus der Cloud" (Konzertlesung)
DESCRIPTION:Konzertlesung mit dem Schriftsteller und Liedermacher Stephan Krawczyk rund um sein Buch »Die heilende Schrift«. 77 Imaginationen über allerlei teils komische, teils tiefgründige Alltags-Engel.\n\nhttps://eventfrog.at/de/p/konzerte/singer-songwriter/stephan-krawczyk-engel-aus-der-cloud-konzertlesung-7446852026296761411.html
LOCATION:Schwartzsche Villa
GEO:52.456923;13.319379
URL:https://eventfrog.at/de/p/konzerte/singer-songwriter/stephan-krawczyk-engel-aus-der-cloud-konzertlesung-7446852026296761411.html
END:VEVENT
END:VCALENDAR