BEGIN:VCALENDAR
VERSION:2.0
PRODID:EVENTFROG//EVENT//ICAL
BEGIN:VEVENT
UID:20260420T061446Z-7446677007327347892@eventfrog.at
DTSTAMP:20260420T061446Z
DTSTART:20261030T170000Z
DTEND:20261030T210000Z
SUMMARY:Schnuppermassage
DESCRIPTION:In kurzer Zeit verschiedene Massagearten ausprobieren.\n\nhttps://eventfrog.at/de/p/diverses/schnuppermassage-7446677007327347892.html
LOCATION:JAM 29 Aerobic Factory
GEO:47.164526;9.464039
URL:https://eventfrog.at/de/p/diverses/schnuppermassage-7446677007327347892.html
END:VEVENT
END:VCALENDAR