BEGIN:VCALENDAR
VERSION:2.0
PRODID:EVENTFROG//EVENT//ICAL
BEGIN:VEVENT
UID:20260424T124808Z-7446598983516980785@eventfrog.at
DTSTAMP:20260424T124808Z
DTSTART:20260523T120000Z
DTEND:20260523T150000Z
SUMMARY:Familienaktion · Papierboot-Wettbewerb und Kanu-Simulator
DESCRIPTION:Am 23. Mai falten und bemalen Kinder und Erwachsene Papierboote mit Botschaften und testen den Kanu-Simulator an der Bille, 14-17 Uhr.\n\nhttps://eventfrog.at/de/p/kinderveranstaltungen/familienveranstaltungen/familienaktion-papierboot-wettbewerb-und-kanu-simulator-7446598983516980785.html
LOCATION:BOOT e.V.
GEO:53.546316;10.059468
URL:https://eventfrog.at/de/p/kinderveranstaltungen/familienveranstaltungen/familienaktion-papierboot-wettbewerb-und-kanu-simulator-7446598983516980785.html
END:VEVENT
END:VCALENDAR