BEGIN:VCALENDAR
VERSION:2.0
PRODID:EVENTFROG//EVENT//ICAL
BEGIN:VEVENT
UID:20260419T145828Z-7446198225088866426@eventfrog.at
DTSTAMP:20260419T145828Z
DTSTART:20261002T181500Z
SUMMARY:Ostberlin True Crime Slam
DESCRIPTION:Spezialausgabe des Ostberlin Slam\n\nhttps://eventfrog.at/de/p/theater-buehne/poetry-slam/ostberlin-true-crime-slam-7446198225088866426.html
LOCATION:Kino Union
GEO:52.456415;13.625669
URL:https://eventfrog.at/de/p/theater-buehne/poetry-slam/ostberlin-true-crime-slam-7446198225088866426.html
END:VEVENT
END:VCALENDAR