BEGIN:VCALENDAR
VERSION:2.0
PRODID:EVENTFROG//EVENT//ICAL
BEGIN:VEVENT
UID:20260421T042856Z-7446124564478743262@eventfrog.at
DTSTAMP:20260421T042856Z
DTSTART:20260510T150000Z
DTEND:20260510T173000Z
SUMMARY:Tanzgala 2026  Abendgala
DESCRIPTION:Einlass: 16:30\nBeginn 17:00\n\nhttps://eventfrog.at/de/p/theater-buehne/tanz/tanzgala-2026-abendgala-7446124564478743262.html
LOCATION:Bürgerhaus Karlsfeld
GEO:48.222930;11.470910
URL:https://eventfrog.at/de/p/theater-buehne/tanz/tanzgala-2026-abendgala-7446124564478743262.html
END:VEVENT
END:VCALENDAR