BEGIN:VCALENDAR
VERSION:2.0
PRODID:EVENTFROG//EVENT//ICAL
BEGIN:VEVENT
UID:20260424T071950Z-7446068851349936246@eventfrog.at
DTSTAMP:20260424T071950Z
DTSTART:20270319T190000Z
DTEND:20270319T210000Z
SUMMARY:Comedy Night im AUREA - Sven Ivanic mit "Luegemer Sponti"
DESCRIPTION:Sven Ivanić präsentiert sein neues Soloprogramm "Luegemer sponti" im AUREA Rheinfelden. Türöffnung 19 Uhr, Start 20 Uhr, danach Karaoke und Barbetrieb.\n\nhttps://eventfrog.at/de/p/theater-buehne/comedy-kabarett/comedy-night-im-aurea-sven-ivanic-mit-luegemer-sponti-7446068851349936246.html
LOCATION:AUREA - Kultur- und Eventlocation
GEO:47.551338;7.785259
URL:https://eventfrog.at/de/p/theater-buehne/comedy-kabarett/comedy-night-im-aurea-sven-ivanic-mit-luegemer-sponti-7446068851349936246.html
END:VEVENT
END:VCALENDAR