BEGIN:VCALENDAR
VERSION:2.0
PRODID:EVENTFROG//EVENT//ICAL
BEGIN:VEVENT
UID:20260421T185949Z-7445742286997029208@eventfrog.at
DTSTAMP:20260421T185949Z
DTSTART:20261107T180000Z
SUMMARY:Rock am Bach 2026 im Holtwicker Saal
DESCRIPTION:Rock am Bach, präsentiert vom Schützenverein Holtwick e.V., mit lokalen Live-Bands und Imbiswagen, am 07. November 2026 - ein großartiger Abend mit Live-Musik!\n\nhttps://eventfrog.at/de/p/konzerte/pop-rock/rock-am-bach-2026-im-holtwicker-saal-7445742286997029208.html
LOCATION:Holtwicker Saal
GEO:51.855865;6.583877
URL:https://eventfrog.at/de/p/konzerte/pop-rock/rock-am-bach-2026-im-holtwicker-saal-7445742286997029208.html
END:VEVENT
END:VCALENDAR