BEGIN:VCALENDAR
VERSION:2.0
PRODID:EVENTFROG//EVENT//ICAL
BEGIN:VEVENT
UID:20260425T191622Z-7445592848177596337@eventfrog.at
DTSTAMP:20260425T191622Z
DTSTART:20260511T183000Z
SUMMARY:Dälek
DESCRIPTION:Rap.\n\nhttps://eventfrog.at/de/p/konzerte/daelek-7445592848177596337.html
LOCATION:Palace
GEO:47.426620;9.373120
URL:https://eventfrog.at/de/p/konzerte/daelek-7445592848177596337.html
END:VEVENT
END:VCALENDAR