BEGIN:VCALENDAR
VERSION:2.0
PRODID:EVENTFROG//EVENT//ICAL
BEGIN:VEVENT
UID:20260422T083414Z-7445520286550637948@eventfrog.at
DTSTAMP:20260422T083414Z
DTSTART:20260614T120000Z
DTEND:20260614T170000Z
SUMMARY:color beats! - by impulse im flow
DESCRIPTION:Am 14.06. erwartet dich im Atelier T8 ein Kreativfestival voller Farben, Beats und Festival-Vibes.\n\nhttps://eventfrog.at/de/p/festivals/weitere-festivals/color-beats-by-impulse-im-flow-7445520286550637948.html
LOCATION:Atelier T8
GEO:51.669071;8.403146
URL:https://eventfrog.at/de/p/festivals/weitere-festivals/color-beats-by-impulse-im-flow-7445520286550637948.html
END:VEVENT
END:VCALENDAR