BEGIN:VCALENDAR
VERSION:2.0
PRODID:EVENTFROG//EVENT//ICAL
BEGIN:VEVENT
UID:20260424T122248Z-7445348974603589333@eventfrog.at
DTSTAMP:20260424T122248Z
DTSTART:20260505T163000Z
DTEND:20260505T190000Z
SUMMARY:Lesung von Bianca Wege zu „A Recipe for Rivals“
DESCRIPTION:Bianca Wege liest am 5. Mai im Café Clara aus A Receipt for Rivals und gibt Einblicke in die Entstehung ihres Romans.\n\nhttps://eventfrog.at/de/p/theater-buehne/lesung/lesung-von-bianca-wege-zu-a-recipe-for-rivals-7445348974603589333.html
LOCATION:Café Clara
GEO:50.716391;12.497220
URL:https://eventfrog.at/de/p/theater-buehne/lesung/lesung-von-bianca-wege-zu-a-recipe-for-rivals-7445348974603589333.html
END:VEVENT
END:VCALENDAR