BEGIN:VCALENDAR
VERSION:2.0
PRODID:EVENTFROG//EVENT//ICAL
BEGIN:VEVENT
UID:20260419T230305Z-7445226719219328946@eventfrog.at
DTSTAMP:20260419T230305Z
DTSTART:20260510T093000Z
DTEND:20260510T103000Z
SUMMARY:Ausgebucht – Tout est lumière  öffentliche Führung
DESCRIPTION:Ausgebucht - Tout est lumière  öffentliche Führung\n\nhttps://eventfrog.at/de/p/diverses/ausgebucht-tout-est-lumiere-oeffentliche-fuehrung-7445226719219328946.html
LOCATION:Kunst Museum  Beim Stadthaus
GEO:47.501502;8.730397
URL:https://eventfrog.at/de/p/diverses/ausgebucht-tout-est-lumiere-oeffentliche-fuehrung-7445226719219328946.html
END:VEVENT
END:VCALENDAR