BEGIN:VCALENDAR
VERSION:2.0
PRODID:EVENTFROG//EVENT//ICAL
BEGIN:VEVENT
UID:20260420T065007Z-7445009522635066534@eventfrog.at
DTSTAMP:20260420T065007Z
DTSTART:20261003T190000Z
SUMMARY:Monochrome die Wave Party
DESCRIPTION:Dark Side of the Eighties\n\nhttps://eventfrog.at/de/p/partys/gothic-wave/monochrome-die-wave-party-7445009522635066534.html
LOCATION:Utopia-Disco-Club
GEO:47.389672;8.052063
URL:https://eventfrog.at/de/p/partys/gothic-wave/monochrome-die-wave-party-7445009522635066534.html
END:VEVENT
END:VCALENDAR