BEGIN:VCALENDAR
VERSION:2.0
PRODID:EVENTFROG//EVENT//ICAL
BEGIN:VEVENT
UID:20260424T072702Z-7444998136504842850@eventfrog.at
DTSTAMP:20260424T072702Z
DTSTART:20260522T190000Z
DTEND:20260522T215900Z
SUMMARY:End of an Era
DESCRIPTION:Stefan Tarara und Schüler verwandeln die Aula der Kantonsschule Wattwil zur Tanzfläche für die Abschiedsparty.\n\nhttps://eventfrog.at/de/p/partys/electro/end-of-an-era-7444998136504842850.html
LOCATION:Kantonsschule Wattwil
GEO:47.301326;9.087341
URL:https://eventfrog.at/de/p/partys/electro/end-of-an-era-7444998136504842850.html
END:VEVENT
END:VCALENDAR