BEGIN:VCALENDAR
VERSION:2.0
PRODID:EVENTFROG//EVENT//ICAL
BEGIN:VEVENT
UID:20260420T050605Z-7444862149577430462@eventfrog.at
DTSTAMP:20260420T050605Z
DTSTART:20260423T143000Z
DTEND:20260514T170000Z
SUMMARY:Allein in Berlin (младшая группа)
DESCRIPTION:Вместе с детьми мы исследуем город, открываем интересные точки и создаём собственную карту.\n\nhttps://eventfrog.at/de/p/kinderveranstaltungen/kindertheater/allein-in-berlin-7444862149577430462.html
LOCATION:Wird noch angekündigt
URL:https://eventfrog.at/de/p/kinderveranstaltungen/kindertheater/allein-in-berlin-7444862149577430462.html
END:VEVENT
END:VCALENDAR