BEGIN:VCALENDAR
VERSION:2.0
PRODID:EVENTFROG//EVENT//ICAL
BEGIN:VEVENT
UID:20260424T122248Z-7444706362888555327@eventfrog.at
DTSTAMP:20260424T122248Z
DTSTART:20260501T173000Z
SUMMARY:Steohan Zinner
DESCRIPTION:Stephan Zinner liest kabarettistisch aus seinem Buch, begleitet von Maxi Pongratz und Matthias Meichelböck mit Musik.\n\nhttps://eventfrog.at/de/p/theater-buehne/lesung/steohan-zinner-7444706362888555327.html
LOCATION:Stadthalle Germering
GEO:48.130808;11.366915
URL:https://eventfrog.at/de/p/theater-buehne/lesung/steohan-zinner-7444706362888555327.html
END:VEVENT
END:VCALENDAR