BEGIN:VCALENDAR
VERSION:2.0
PRODID:EVENTFROG//EVENT//ICAL
BEGIN:VEVENT
UID:20260425T234556Z-7444676281780702924@eventfrog.at
DTSTAMP:20260425T234556Z
DTSTART:20260425T180000Z
DTEND:20260425T213000Z
SUMMARY:Tanz in den Mai- live:Triple Trouble
DESCRIPTION:„Triple Trouble“ spielt in den Kleinwachauer Werkstätten Welthits in neuem Gewand zum Tanz in den Mai.\n\nhttps://eventfrog.at/de/p/konzerte/pop-rock/tanz-in-den-mai-live-triple-trouble-7444676281780702924.html
LOCATION:Epilepsiezentrum Kleinwachau
GEO:51.141985;13.899568
URL:https://eventfrog.at/de/p/konzerte/pop-rock/tanz-in-den-mai-live-triple-trouble-7444676281780702924.html
END:VEVENT
END:VCALENDAR