BEGIN:VCALENDAR
VERSION:2.0
PRODID:EVENTFROG//EVENT//ICAL
BEGIN:VEVENT
UID:20260420T024813Z-7444665020732935583@eventfrog.at
DTSTAMP:20260420T024813Z
DTSTART:20260625T050000Z
DTEND:20260625T053500Z
SUMMARY:Allegro al Mattino
DESCRIPTION:Frühkonzerte FRAK 2026\nMusik in Pfäffikon\n\nhttps://eventfrog.at/de/p/konzerte/weitere-musikrichtungen/allegro-al-mattino-7444665020732935583.html
LOCATION:Atelier Dati
GEO:47.365930;8.787137
URL:https://eventfrog.at/de/p/konzerte/weitere-musikrichtungen/allegro-al-mattino-7444665020732935583.html
END:VEVENT
END:VCALENDAR