BEGIN:VCALENDAR
VERSION:2.0
PRODID:EVENTFROG//EVENT//ICAL
BEGIN:VEVENT
UID:20260422T032647Z-7444496161975617688@eventfrog.at
DTSTAMP:20260422T032647Z
DTSTART:20260509T100000Z
DTEND:20260509T180000Z
SUMMARY:Altenfurter Weinfest an der Rundkapelle Altenfurt!
DESCRIPTION:Am 9. Mai findet erstmals das Weinfest an der Rundkapelle Altenfurt mit Weinen vom Juliusspital, Musik und Kinderprogramm statt.\n\nhttps://eventfrog.at/de/p/essen-trinken/altenfurter-weinfest-an-der-rundkapelle-altenfurt-7444496161975617688.html
LOCATION:Rundkapelle Nürnberg-Altenfurt
GEO:49.406533;11.164980
URL:https://eventfrog.at/de/p/essen-trinken/altenfurter-weinfest-an-der-rundkapelle-altenfurt-7444496161975617688.html
END:VEVENT
END:VCALENDAR