BEGIN:VCALENDAR
VERSION:2.0
PRODID:EVENTFROG//EVENT//ICAL
BEGIN:VEVENT
UID:20260421T173030Z-7444313734921628814@eventfrog.at
DTSTAMP:20260421T173030Z
DTSTART:20260426T090000Z
DTEND:20260426T150000Z
SUMMARY:Eiserfelder Trödelmarkt
DESCRIPTION:Trödeln auf dem I.H.W. Gelände \n\nhttps://eventfrog.at/de/p/maerkte/flohmarkt/eiserfelder-troedelmarkt-7444313734921628814.html
LOCATION:Parkplatz des I.H.W.
GEO:50.841030;7.986722
URL:https://eventfrog.at/de/p/maerkte/flohmarkt/eiserfelder-troedelmarkt-7444313734921628814.html
END:VEVENT
END:VCALENDAR