BEGIN:VCALENDAR
VERSION:2.0
PRODID:EVENTFROG//EVENT//ICAL
BEGIN:VEVENT
UID:20260426T041751Z-7444076711199687439@eventfrog.at
DTSTAMP:20260426T041751Z
DTSTART:20260430T173000Z
DTEND:20260430T193000Z
SUMMARY:Tanz in den Mai
DESCRIPTION:Am 30. April lädt der offene Tanzabend im Güterschuppen von 19:30 bis 21:30 zum gratis Feiern mit Musik und Frühlingsstimmung ein.\n\nhttps://eventfrog.at/de/p/partys/sonstige-partys/tanz-in-den-mai-7444076711199687439.html
LOCATION:Güterschuppen
GEO:52.257417;10.358852
URL:https://eventfrog.at/de/p/partys/sonstige-partys/tanz-in-den-mai-7444076711199687439.html
END:VEVENT
END:VCALENDAR