BEGIN:VCALENDAR
VERSION:2.0
PRODID:EVENTFROG//EVENT//ICAL
BEGIN:VEVENT
UID:20260424T141621Z-7444053226997955315@eventfrog.at
DTSTAMP:20260424T141621Z
DTSTART:20260425T080000Z
DTEND:20260425T110000Z
SUMMARY:Selbstverteidigung - 55 plus
DESCRIPTION:Marcel Sturm zeigt einfache Selbstverteidigungstechniken, um Sicherheit und Selbstvertrauen zu stärken.\n\nhttps://eventfrog.at/de/p/kurse-seminare/sonstige-kurse-seminare/selbstverteidigung-55-plus-7444053226997955315.html
LOCATION:VHS Neuss
GEO:51.198372;6.694976
URL:https://eventfrog.at/de/p/kurse-seminare/sonstige-kurse-seminare/selbstverteidigung-55-plus-7444053226997955315.html
END:VEVENT
END:VCALENDAR