BEGIN:VCALENDAR
VERSION:2.0
PRODID:EVENTFROG//EVENT//ICAL
BEGIN:VEVENT
UID:20260422T224943Z-7443339977021232148@eventfrog.at
DTSTAMP:20260422T224943Z
DTSTART:20260508T080000Z
DTEND:20260508T160000Z
SUMMARY:Authentisch.Ehrlich.Roh. - Verbindungen zwischen Farbe & For
DESCRIPTION:Bild & Rahmen Hofmann präsentiert vom 24.4. bis 6.6. expressive Skulpturen von Carlin und abstrakte Malerei von Schweinsberg.\n\nhttps://eventfrog.at/de/p/kunst-ausstellungen/ausstellung/authentisch-ehrlich-roh-verbindungen-zwischen-farbe-for-7443339977021232148.html
LOCATION:Bild und Rahmen Hofmann
GEO:50.200423;8.582014
URL:https://eventfrog.at/de/p/kunst-ausstellungen/ausstellung/authentisch-ehrlich-roh-verbindungen-zwischen-farbe-for-7443339977021232148.html
END:VEVENT
END:VCALENDAR