BEGIN:VCALENDAR
VERSION:2.0
PRODID:EVENTFROG//EVENT//ICAL
BEGIN:VEVENT
UID:20260425T023307Z-7443305379478394183@eventfrog.at
DTSTAMP:20260425T023307Z
DTSTART:20261108T170000Z
DTEND:20261108T210000Z
SUMMARY:360° Milonga
DESCRIPTION:Sehnsucht, Eleganz & Nostalgie – Tanze Tango im Rundbild!\n\nhttps://eventfrog.at/de/p/diverses/360-milonga-7443305379478394183.html
LOCATION:Bourbaki Panorama Luzern
GEO:47.056847;8.311025
URL:https://eventfrog.at/de/p/diverses/360-milonga-7443305379478394183.html
END:VEVENT
END:VCALENDAR