BEGIN:VCALENDAR
VERSION:2.0
PRODID:EVENTFROG//EVENT//ICAL
BEGIN:VEVENT
UID:20260424T175958Z-7443010384578005026@eventfrog.at
DTSTAMP:20260424T175958Z
DTSTART:20260426T130000Z
DTEND:20260426T154500Z
SUMMARY:Michelstadt. Dokumentarfilm "An der Seite Bruno Grönings"
DESCRIPTION:Erleben Sie in 100 packenden Minuten Interviews, historische Filmaufnahmen und berührende Schauspielszenen, die das Wirken dieses außergewöhnlichen Mannes lebendig werden lassen. \nBruno Gröning\n\nhttps://eventfrog.at/de/p/gesundheit-spiritualitaet/gesundheit-wohlbefinden/michelstadt-dokumentarfilm-an-der-seite-bruno-groenings-7443010384578005026.html
LOCATION:Bürgerhaus Steinbach
GEO:49.686818;8.996203
URL:https://eventfrog.at/de/p/gesundheit-spiritualitaet/gesundheit-wohlbefinden/michelstadt-dokumentarfilm-an-der-seite-bruno-groenings-7443010384578005026.html
END:VEVENT
END:VCALENDAR