BEGIN:VCALENDAR
VERSION:2.0
PRODID:EVENTFROG//EVENT//ICAL
BEGIN:VEVENT
UID:20260421T094204Z-7442927409018444515@eventfrog.at
DTSTAMP:20260421T094204Z
DTSTART:20260423T180000Z
SUMMARY:Max Beier - Love & Order
DESCRIPTION:Der Kabarettist Max Beier geht auf Tour mit ,,Love & Order” und ist am 23.04.2026 in der Lütt Jever Scheune in Ronnenberg zu Gast.\n\nhttps://eventfrog.at/de/p/theater-buehne/comedy-kabarett/max-beier-love-order-7442927409018444515.html
LOCATION:Lütt Jever Scheune
GEO:52.317001;9.658725
URL:https://eventfrog.at/de/p/theater-buehne/comedy-kabarett/max-beier-love-order-7442927409018444515.html
END:VEVENT
END:VCALENDAR