BEGIN:VCALENDAR
VERSION:2.0
PRODID:EVENTFROG//EVENT//ICAL
BEGIN:VEVENT
UID:20260424T232427Z-7442836889608913400@eventfrog.at
DTSTAMP:20260424T232427Z
DTSTART:20260508T173000Z
SUMMARY:Richard Cunha – Immigrant Friend
DESCRIPTION:Stand Up Comedy mit dem Brazilianer Richard Cunha.\n\nhttps://eventfrog.at/de/p/theater-buehne/richard-cunha-immigrant-friend-7442836889608913400.html
LOCATION:Oya Bar Kafé
GEO:47.427579;9.377447
URL:https://eventfrog.at/de/p/theater-buehne/richard-cunha-immigrant-friend-7442836889608913400.html
END:VEVENT
END:VCALENDAR