BEGIN:VCALENDAR
VERSION:2.0
PRODID:EVENTFROG//EVENT//ICAL
BEGIN:VEVENT
UID:20260426T001523Z-7442706480883603545@eventfrog.at
DTSTAMP:20260426T001523Z
DTSTART:20260425T190000Z
DTEND:20260426T020000Z
SUMMARY:Clintonics
DESCRIPTION:Clintonics\n\nhttps://eventfrog.at/de/p/konzerte/clintonics-7442706480883603545.html
LOCATION:Heaven Music Club
GEO:47.453395;8.937458
URL:https://eventfrog.at/de/p/konzerte/clintonics-7442706480883603545.html
END:VEVENT
END:VCALENDAR