BEGIN:VCALENDAR
VERSION:2.0
PRODID:EVENTFROG//EVENT//ICAL
BEGIN:VEVENT
UID:20260424T092338Z-7442578354857849770@eventfrog.at
DTSTAMP:20260424T092338Z
DTSTART:20260517T090000Z
DTEND:20260517T160000Z
SUMMARY:Bounce Circus @ Erlenpark 2026
DESCRIPTION:Bounce Circus bietet Hüpfburgen, Klettern und Rutschen für alle ab 4 Jahren von 11 bis 18 Uhr, mit Kiosk und Restaurant.\n\nhttps://eventfrog.at/de/p/kinderveranstaltungen/familienveranstaltungen/bounce-circus-erlenpark-2026-7442578354857849770.html
LOCATION:Sportanlage Erlen
GEO:47.482411;8.471470
URL:https://eventfrog.at/de/p/kinderveranstaltungen/familienveranstaltungen/bounce-circus-erlenpark-2026-7442578354857849770.html
END:VEVENT
END:VCALENDAR