BEGIN:VCALENDAR
VERSION:2.0
PRODID:EVENTFROG//EVENT//ICAL
BEGIN:VEVENT
UID:20260424T105139Z-7442541568030956141@eventfrog.at
DTSTAMP:20260424T105139Z
DTSTART:20260605T173000Z
DTEND:20260605T200000Z
SUMMARY:Album „Chasing The Truth“ Release Show
DESCRIPTION:Welcome Metalheads from around the world\n\nhttps://eventfrog.at/de/p/konzerte/hard-rock-heavy-metal/album-chasing-the-truth-release-show-7442541568030956141.html
LOCATION:Badehaus Berlin
GEO:52.507170;13.452920
URL:https://eventfrog.at/de/p/konzerte/hard-rock-heavy-metal/album-chasing-the-truth-release-show-7442541568030956141.html
END:VEVENT
END:VCALENDAR