BEGIN:VCALENDAR
VERSION:2.0
PRODID:EVENTFROG//EVENT//ICAL
BEGIN:VEVENT
UID:20260423T003619Z-7442314222288034362@eventfrog.at
DTSTAMP:20260423T003619Z
DTSTART:20260621T173000Z
DTEND:20260621T193000Z
SUMMARY:Es Schoggiläbe
DESCRIPTION:Klassisches Konzert mit Poetry Slam\n\nhttps://eventfrog.at/en/p/classical-music-operas/classical-music/es-schoggilaebe-7442314222288034362.html
LOCATION:Kirche Neumünster Zürich
GEO:47.360600;8.558361
URL:https://eventfrog.at/en/p/classical-music-operas/classical-music/es-schoggilaebe-7442314222288034362.html
END:VEVENT
END:VCALENDAR