BEGIN:VCALENDAR
VERSION:2.0
PRODID:EVENTFROG//EVENT//ICAL
BEGIN:VEVENT
UID:20260424T180837Z-7442210429370147841@eventfrog.at
DTSTAMP:20260424T180837Z
DTSTART:20260509T090000Z
DTEND:20260509T130000Z
SUMMARY:Pokémon Prerelease Mega-Entwicklung – Wachsendes Chaos
DESCRIPTION:Beim Sealed Deck Turnier erhalten alle Spieler 3 Booster. Keine Teilnahme am Booster Draft nach Anmeldungsende. Mindestens eine Runde aktiv spielen für Teilnahmepreise.\n\nhttps://eventfrog.at/de/p/freizeit-ausfluege/gruppen-spiele/pokemon-prerelease-mega-entwicklung-wachsendes-chaos-7442210429370147841.html
LOCATION:FUNtainment Berlin
GEO:52.514541;13.469291
URL:https://eventfrog.at/de/p/freizeit-ausfluege/gruppen-spiele/pokemon-prerelease-mega-entwicklung-wachsendes-chaos-7442210429370147841.html
END:VEVENT
END:VCALENDAR