BEGIN:VCALENDAR
VERSION:2.0
PRODID:EVENTFROG//EVENT//ICAL
BEGIN:VEVENT
UID:20260421T161533Z-7442160176902184805@eventfrog.at
DTSTAMP:20260421T161533Z
DTSTART:20260529T090000Z
DTEND:20260529T093000Z
SUMMARY:Shared Decision Making: Heute und morgen
DESCRIPTION:«Shared Decision Making» mit Dr. Jansen und Dario Madani zur Förderung partnerschaftlicher Arzt-Patientenentscheidungen.\n\nhttps://eventfrog.at/de/p/fuehrungen-vortraege/vortrag/shared-decision-making-heute-und-morgen-7442160176902184805.html
LOCATION:Hybrid - Online oder Kap Europa, Frankfurt a.M.
URL:https://eventfrog.at/de/p/fuehrungen-vortraege/vortrag/shared-decision-making-heute-und-morgen-7442160176902184805.html
END:VEVENT
END:VCALENDAR