BEGIN:VCALENDAR
VERSION:2.0
PRODID:EVENTFROG//EVENT//ICAL
BEGIN:VEVENT
UID:20260421T094202Z-7442157578988035222@eventfrog.at
DTSTAMP:20260421T094202Z
DTSTART:20260424T173000Z
SUMMARY:Horn-Bad Meinberg Premiere: William Wahl "wahlweise"
DESCRIPTION:Das brandneue Live-Programm "wahlweise" spielt der preisgekrönte Klavierkabarettist am 24. April erstmalig in Horn-Bad Meinberg (Kurtheater  Horn-Bad Meinberg-Premiere). \n\nhttps://eventfrog.at/de/p/theater-buehne/comedy-kabarett/horn-bad-meinberg-premiere-william-wahl-wahlweise-7442157578988035222.html
LOCATION:Kurtheater
GEO:51.895615;8.983543
URL:https://eventfrog.at/de/p/theater-buehne/comedy-kabarett/horn-bad-meinberg-premiere-william-wahl-wahlweise-7442157578988035222.html
END:VEVENT
END:VCALENDAR