BEGIN:VCALENDAR
VERSION:2.0
PRODID:EVENTFROG//EVENT//ICAL
BEGIN:VEVENT
UID:20260421T161534Z-7442151893080536607@eventfrog.at
DTSTAMP:20260421T161534Z
DTSTART:20260528T144500Z
DTEND:20260528T151500Z
SUMMARY:Lernen aus der Praxis, Prüfberichte BFIT-Bund im Internet
DESCRIPTION:Vortrag zu den Erkenntnissen des zweiten EU-Prüfberichtes 2025 und Vorstellung des Portals LAP mit Prüfberichten der BFIT-Bund.\n\nhttps://eventfrog.at/de/p/fuehrungen-vortraege/vortrag/lernen-aus-der-praxis-pruefberichte-bfit-bund-im-internet-7442151893080536607.html
LOCATION:Hybrid - Online oder Kap Europa, Frankfurt a.M.
URL:https://eventfrog.at/de/p/fuehrungen-vortraege/vortrag/lernen-aus-der-praxis-pruefberichte-bfit-bund-im-internet-7442151893080536607.html
END:VEVENT
END:VCALENDAR