BEGIN:VCALENDAR
VERSION:2.0
PRODID:EVENTFROG//EVENT//ICAL
BEGIN:VEVENT
UID:20260421T130817Z-7441945565267526336@eventfrog.at
DTSTAMP:20260421T130817Z
DTSTART:20271105T191500Z
DTEND:20271105T210000Z
SUMMARY:VEGAS INKLUSIV
DESCRIPTION:Die VEGAS INKLUSIV TOURNEE bietet jungen Talenten mit und ohne Behinderung eine Bühne für Gesang, Tanz und Akrobatik.\n\nhttps://eventfrog.at/de/p/musicals-shows/show/vegas-inklusiv-7441945565267526336.html
LOCATION:Flugplatz HH Uetersen/Heist
GEO:53.643555;9.704819
URL:https://eventfrog.at/de/p/musicals-shows/show/vegas-inklusiv-7441945565267526336.html
END:VEVENT
END:VCALENDAR