BEGIN:VCALENDAR
VERSION:2.0
PRODID:EVENTFROG//EVENT//ICAL
BEGIN:VEVENT
UID:20260425T002354Z-7441898430392192224@eventfrog.at
DTSTAMP:20260425T002354Z
DTSTART:20260426T070000Z
DTEND:20260426T143000Z
SUMMARY:„Jodlerwanderung im Suhrental: Wandern, Singen, Geniessen“
DESCRIPTION:Der Jodlerklub Echo Reitnau lädt zu einer Jodlerwanderung mit Gesang, Kulinarik und Natur im Suhrental ein.\n\nhttps://eventfrog.at/de/p/essen-trinken/jodlerwanderung-im-suhrental-wandern-singen-geniessen-7441898430392192224.html
LOCATION:Sagerei Koller AG
GEO:47.260737;8.046318
URL:https://eventfrog.at/de/p/essen-trinken/jodlerwanderung-im-suhrental-wandern-singen-geniessen-7441898430392192224.html
END:VEVENT
END:VCALENDAR