BEGIN:VCALENDAR
VERSION:2.0
PRODID:EVENTFROG//EVENT//ICAL
BEGIN:VEVENT
UID:20260420T171916Z-7441891662597492422@eventfrog.at
DTSTAMP:20260420T171916Z
DTSTART:20261009T170000Z
DTEND:20261009T200000Z
SUMMARY:Werner Meier - Echt!?!
DESCRIPTION:Werner Meier vereint Musik und Kabarett mit Humor und Tiefgang und zeigt analoge Fluchten im digitalen Alltag.\n\nhttps://eventfrog.at/de/p/theater-buehne/comedy-kabarett/werner-meier-echt-7441891662597492422.html
LOCATION:Pfarrstadl Aufkirchen
GEO:48.241591;11.191732
URL:https://eventfrog.at/de/p/theater-buehne/comedy-kabarett/werner-meier-echt-7441891662597492422.html
END:VEVENT
END:VCALENDAR