BEGIN:VCALENDAR
VERSION:2.0
PRODID:EVENTFROG//EVENT//ICAL
BEGIN:VEVENT
UID:20260424T090346Z-7441881155467516894@eventfrog.at
DTSTAMP:20260424T090346Z
DTSTART:20260821T173000Z
SUMMARY:MIND THE GAP - Edition II
DESCRIPTION:Internationale Nachwuchstalente tanzen Choreografien von Spoerli, Finn und Portugal \n\nhttps://eventfrog.at/de/p/theater-buehne/tanz/mind-the-gap-edition-ii-7441881155467516894.html
LOCATION:Kurtheater
GEO:47.480245;8.310262
URL:https://eventfrog.at/de/p/theater-buehne/tanz/mind-the-gap-edition-ii-7441881155467516894.html
END:VEVENT
END:VCALENDAR