BEGIN:VCALENDAR
VERSION:2.0
PRODID:EVENTFROG//EVENT//ICAL
BEGIN:VEVENT
UID:20260424T105221Z-7441780976001244504@eventfrog.at
DTSTAMP:20260424T105221Z
DTSTART:20260506T080000Z
DTEND:20260506T090000Z
SUMMARY:Fascial Maneuvers - Stress loslassen im Körper
DESCRIPTION:Stress loslassen im Körper – nicht nur im Kopf\nIn dieser Stunde lösen wir Spannung dort, wo sie wirklich sitzt: im Gewebe und im Nervensystem –\nfür mehr Leichtigkeit, Energie und bessere Regeneration.\n\nhttps://eventfrog.at/de/p/gesundheit-spiritualitaet/gesundheit-wohlbefinden/fascial-maneuvers-stress-loslassen-im-koerper-7441780976001244504.html
LOCATION:Theorieraum Feldbach Steckborn
GEO:47.663658;8.975138
URL:https://eventfrog.at/de/p/gesundheit-spiritualitaet/gesundheit-wohlbefinden/fascial-maneuvers-stress-loslassen-im-koerper-7441780976001244504.html
END:VEVENT
END:VCALENDAR