BEGIN:VCALENDAR
VERSION:2.0
PRODID:EVENTFROG//EVENT//ICAL
BEGIN:VEVENT
UID:20260421T161532Z-7441550732275220992@eventfrog.at
DTSTAMP:20260421T161532Z
DTSTART:20260528T111500Z
DTEND:20260528T114500Z
SUMMARY:O&M-Schulung: Erfahrungsbericht mit Taubblindem Jugendlichen
DESCRIPTION:Jürgen Pavelka berichtet über die Orientierungsschulung- und Mobilitätsschulung eines taubblinden Jugendlichen im Blindeninstitut Würzburg mit eigenen Methoden.\n\nhttps://eventfrog.at/de/p/fuehrungen-vortraege/vortrag/o-m-schulung-erfahrungsbericht-mit-taubblindem-jugendlichen-7441550732275220992.html
LOCATION:Hybrid - Online oder Kap Europa, Frankfurt a.M.
URL:https://eventfrog.at/de/p/fuehrungen-vortraege/vortrag/o-m-schulung-erfahrungsbericht-mit-taubblindem-jugendlichen-7441550732275220992.html
END:VEVENT
END:VCALENDAR