BEGIN:VCALENDAR
VERSION:2.0
PRODID:EVENTFROG//EVENT//ICAL
BEGIN:VEVENT
UID:20260421T191427Z-7441459249262116357@eventfrog.at
DTSTAMP:20260421T191427Z
DTSTART:20271008T170000Z
DTEND:20271008T210000Z
SUMMARY:Das perfekte Schlager Dinner Achern – Live Show & Musik
DESCRIPTION:Das perfekte Schlager Dinner in Achern: Humorvolle Dinnershow mit Live-Musik, den größten Schlagerhits und Mehrgangmenü. Mitsingen, lachen und genießen!\n\nhttps://eventfrog.at/de/p/konzerte/schlager-volksmusik/das-perfekte-schlager-dinner-achern-live-show-musik-7441459249262116357.html
LOCATION:SCHECK-IN Kochfabrik
GEO:48.627659;8.054717
URL:https://eventfrog.at/de/p/konzerte/schlager-volksmusik/das-perfekte-schlager-dinner-achern-live-show-musik-7441459249262116357.html
END:VEVENT
END:VCALENDAR