BEGIN:VCALENDAR
VERSION:2.0
PRODID:EVENTFROG//EVENT//ICAL
BEGIN:VEVENT
UID:20260421T191702Z-7441442901979065446@eventfrog.at
DTSTAMP:20260421T191702Z
DTSTART:20261211T180000Z
DTEND:20261211T220000Z
SUMMARY:Das perfekte ABBA Dinner Tangermünde – Live Show & Musik
DESCRIPTION:Das perfekte ABBA Dinner in Tangermünde: Interaktive Dinnershow mit Live-Musik, den größten ABBA-Hits und Mehrgangmenü. Mitsingen, mitfeiern und genießen!\n\nhttps://eventfrog.at/de/p/konzerte/pop-rock/das-perfekte-abba-dinner-tangermuende-live-show-musik-7441442901979065446.html
LOCATION:Schlosshotel Tangermünde
GEO:52.542656;11.977803
URL:https://eventfrog.at/de/p/konzerte/pop-rock/das-perfekte-abba-dinner-tangermuende-live-show-musik-7441442901979065446.html
END:VEVENT
END:VCALENDAR