BEGIN:VCALENDAR
VERSION:2.0
PRODID:EVENTFROG//EVENT//ICAL
BEGIN:VEVENT
UID:20260421T191550Z-7441426298365311774@eventfrog.at
DTSTAMP:20260421T191550Z
DTSTART:20261024T170000Z
DTEND:20261024T210000Z
SUMMARY:Das perfekte ABBA Dinner Saarlouis – Live Show & Musik
DESCRIPTION:Das perfekte ABBA Dinner in Saarlouis: Interaktive Dinnershow mit Live-Musik, den größten ABBA-Hits und Mehrgangmenü. Mitsingen, mitfeiern und genießen!\n\nhttps://eventfrog.at/de/p/konzerte/pop-rock/das-perfekte-abba-dinner-saarlouis-live-show-musik-7441426298365311774.html
LOCATION:Victor’s Residenz-Hotel Saarlouis
GEO:49.325436;6.749061
URL:https://eventfrog.at/de/p/konzerte/pop-rock/das-perfekte-abba-dinner-saarlouis-live-show-musik-7441426298365311774.html
END:VEVENT
END:VCALENDAR